BEGIN:VCALENDAR
VERSION:2.0
PRODID:icalendar-ruby
CALSCALE:GREGORIAN
METHOD:PUBLISH
BEGIN:VEVENT
DTSTAMP:20260420T032649Z
UID:60-189971@glendalebc.org
DTSTART;VALUE=DATE:20260419
DTEND;VALUE=DATE:20260630
CLASS:PUBLIC
CREATED:20260419T180208
DESCRIPTION:
LAST-MODIFIED:20260419T180208
LOCATION:
SUMMARY:Volunteer for VBS
URL;VALUE=URI:https://www.glendalebc.org/events/volunteer-for-vbs/2026-04-1
 9
ATTACH;FILENAME=3.png;FMTTYPE=image/png:https://dq5pwpg1q8ru0.cloudfront.ne
 t/2026/04/19/23/00/11/5d3125b4-61b7-43af-ba14-f5471645cfeb/3.png
END:VEVENT
END:VCALENDAR
